BEGIN:VCALENDAR
VERSION:2.0
PRODID:-//Concordia Seminary - ECPv6.13.1//NONSGML v1.0//EN
CALSCALE:GREGORIAN
METHOD:PUBLISH
X-ORIGINAL-URL:https://www.csl.edu
X-WR-CALDESC:Events for Concordia Seminary
REFRESH-INTERVAL;VALUE=DURATION:PT1H
X-Robots-Tag:noindex
X-PUBLISHED-TTL:PT1H
BEGIN:VTIMEZONE
TZID:America/Chicago
BEGIN:DAYLIGHT
TZOFFSETFROM:-0600
TZOFFSETTO:-0500
TZNAME:CDT
DTSTART:20260308T080000
END:DAYLIGHT
BEGIN:STANDARD
TZOFFSETFROM:-0500
TZOFFSETTO:-0600
TZNAME:CST
DTSTART:20261101T070000
END:STANDARD
END:VTIMEZONE
BEGIN:VEVENT
DTSTART;TZID=America/Chicago:20260207T183000
DTEND;TZID=America/Chicago:20260207T200000
DTSTAMP:20260423T102640
CREATED:20251217T134039Z
LAST-MODIFIED:20251219T133215Z
UID:191162-1770489000-1770494400@www.csl.edu
SUMMARY:Called to Serve - Davenport\, IA
DESCRIPTION:We invite you to join Rev. Jesse Kueker\, director of enrollment\, for a free meal\, a presentation on the doctrine of vocation and an update on enrollment at Concordia Seminary\, St. Louis.\nWho should attend? \n\nThose exploring or interested in pursuing pastoral ministry\nThe Lutheran Church—Missouri Synod (LCMS) clergy and laity interested in helping recruit the next generation of church workers\n\nThere is no cost to attend this event\, but space is limited.\n \nRegister Bulletin Insert\n 
URL:https://www.csl.edu/event/called-to-serve-davenport-2026-02/
LOCATION:Trinity Lutheran Church (Davenport\, IA)\, 1122 West Central Park Avenue\, Davenport\, 52804\, United States
CATEGORIES:Admissions,Recruitment
ATTACH;FMTTYPE=image/jpeg:https://www.csl.edu/wp-content/uploads/2025/12/called-to-serve.jpg
END:VEVENT
END:VCALENDAR