BEGIN:VCALENDAR
VERSION:2.0
PRODID:-//Concordia Seminary - ECPv6.13.1//NONSGML v1.0//EN
CALSCALE:GREGORIAN
METHOD:PUBLISH
X-ORIGINAL-URL:https://www.csl.edu
X-WR-CALDESC:Events for Concordia Seminary
REFRESH-INTERVAL;VALUE=DURATION:PT1H
X-Robots-Tag:noindex
X-PUBLISHED-TTL:PT1H
BEGIN:VTIMEZONE
TZID:America/Chicago
BEGIN:DAYLIGHT
TZOFFSETFROM:-0600
TZOFFSETTO:-0500
TZNAME:CDT
DTSTART:20220313T080000
END:DAYLIGHT
BEGIN:STANDARD
TZOFFSETFROM:-0500
TZOFFSETTO:-0600
TZNAME:CST
DTSTART:20221106T070000
END:STANDARD
END:VTIMEZONE
BEGIN:VEVENT
DTSTART;VALUE=DATE:20220801
DTEND;VALUE=DATE:20220804
DTSTAMP:20260419T214417
CREATED:20220309T232315Z
LAST-MODIFIED:20221005T003211Z
UID:174381-1659312000-1659571199@www.csl.edu
SUMMARY:Prof Insights: Faculty-Led Workshop – Professor Lessing in Dublin\, OH
DESCRIPTION:Job: Blessed be the Name of the Lord\nMartin Luther asserted that “Job is magnificent and sublime as no book of Scripture.” Others have called Job “the Shakespeare of the Bible.” Yet the early Christian scholar Jerome perhaps put it best when he called the book of Job an “eel\,” since the more one tries to contain it\, the slipperier it becomes! The purpose of this workshop is to learn how to apply Job to our lives\, so that the book becomes less like an eel and more like a loving companion through life’s dark valleys. Bible study and sermonic insights will abound. \n\n\n\n\nDr. Reed Lessing\nProfessor of Theology and Ministry; and Director of the Center for Biblical Studies\, Concordia University\, Saint Paul\, Minn.\nDr. Reed Lessing has served as a seminary professor and parish pastor\, combining both vocations in his presentations and writings. Lessing has authored five commentaries for Concordia Publishing House — all on Old Testament prophets. He is currently working on his sixth book on Jeremiah titled How to Survive Disasters. \n\n\n	\n\n\n\n\nSchedule\n\n\nDAY\nTIME\n\n\nMonday\, Aug. 1\n1-4 p.m.\n\n\nTuesday\, Aug. 2\n9-11:30 a.m.\n\n\n\n1-4 p.m.\n\n\nWednesday\, Aug. 3\n9 a.m.-noon\n\n\n\n\n	Registration cost: $140\n	Registration deadline: July 25\, 2022\n	Location contact: Adam Steinbrenner\n	 \n	Register\n	More Workshops\n\n\nNote: The schedule is subject to change at the discretion of the workshop presenters. \n\n 
URL:https://www.csl.edu/event/prof-insights-faculty-led-workshop-professor-lessing-in-dublin-oh/
LOCATION:MO\, United States
CATEGORIES:Continuing Education
ATTACH;FMTTYPE=image/jpeg:https://www.csl.edu/wp-content/uploads/2022/09/prof-insights-event.jpg
END:VEVENT
END:VCALENDAR