BEGIN:VCALENDAR
VERSION:2.0
PRODID:-//Concordia Seminary - ECPv6.13.1//NONSGML v1.0//EN
CALSCALE:GREGORIAN
METHOD:PUBLISH
X-ORIGINAL-URL:https://www.csl.edu
X-WR-CALDESC:Events for Concordia Seminary
REFRESH-INTERVAL;VALUE=DURATION:PT1H
X-Robots-Tag:noindex
X-PUBLISHED-TTL:PT1H
BEGIN:VTIMEZONE
TZID:America/Chicago
BEGIN:DAYLIGHT
TZOFFSETFROM:-0600
TZOFFSETTO:-0500
TZNAME:CDT
DTSTART:20220313T080000
END:DAYLIGHT
BEGIN:STANDARD
TZOFFSETFROM:-0500
TZOFFSETTO:-0600
TZNAME:CST
DTSTART:20221106T070000
END:STANDARD
END:VTIMEZONE
BEGIN:VEVENT
DTSTART;VALUE=DATE:20220815
DTEND;VALUE=DATE:20220818
DTSTAMP:20260420T044549
CREATED:20220309T233416Z
LAST-MODIFIED:20221005T003211Z
UID:174383-1660521600-1660780799@www.csl.edu
SUMMARY:Prof Insights: Faculty-Led Workshop – Professor Lessing in Mentor\, OH
DESCRIPTION:The Book of Jeremiah: Overcoming Life’s Sorrows\nBased upon Dr. Reed Lessing’s book Overcoming Life’s Sorrows: Learning from Jeremiah (Concordia Publishing House\, 2021)\, this course will be a combination of in-depth study and practical application — all based upon one of the prophet’s major themes\, surviving life’s sorrows. \n\n\n\n\nDr. Reed Lessing\nProfessor of Theology and Ministry; and Director of the Center for Biblical Studies\, Concordia University\, Saint Paul\, Minn.\nDr. Reed Lessing has served as a seminary professor and parish pastor\, combining both vocations in his presentations and writings. Lessing has authored five commentaries for Concordia Publishing House — all on Old Testament prophets. He is currently working on his sixth book on Jeremiah titled How to Survive Disasters. \n\n\n	\n\n\n\n\nSchedule\n\n\nDAY\nTIME\n\n\nMonday\, Aug. 15\n1-4 p.m.\n\n\nTuesday\, Aug. 16\n9-11:30 a.m.\n\n\n\n1-4 p.m.\n\n\nWednesday\, Aug. 17\n9 a.m.-noon\n\n\n\n\n	Registration cost: $140\n	Registration deadline: Aug. 1\, 2022\n	Location contact: Kevin Guynn\n	 \n	Register\n	More Workshops\n\n\nNote: The schedule is subject to change at the discretion of the workshop presenters. \n 
URL:https://www.csl.edu/event/prof-insights-faculty-led-workshop-professor-lessing-in-mentor-oh/
LOCATION:MO\, United States
CATEGORIES:Continuing Education
ATTACH;FMTTYPE=image/jpeg:https://www.csl.edu/wp-content/uploads/2022/09/prof-insights-event.jpg
END:VEVENT
END:VCALENDAR