BEGIN:VCALENDAR
VERSION:2.0
PRODID:-//Concordia Seminary - ECPv6.13.1//NONSGML v1.0//EN
CALSCALE:GREGORIAN
METHOD:PUBLISH
X-ORIGINAL-URL:https://www.csl.edu
X-WR-CALDESC:Events for Concordia Seminary
REFRESH-INTERVAL;VALUE=DURATION:PT1H
X-Robots-Tag:noindex
X-PUBLISHED-TTL:PT1H
BEGIN:VTIMEZONE
TZID:America/Chicago
BEGIN:DAYLIGHT
TZOFFSETFROM:-0600
TZOFFSETTO:-0500
TZNAME:CDT
DTSTART:20230312T080000
END:DAYLIGHT
BEGIN:STANDARD
TZOFFSETFROM:-0500
TZOFFSETTO:-0600
TZNAME:CST
DTSTART:20231105T070000
END:STANDARD
END:VTIMEZONE
BEGIN:VEVENT
DTSTART;VALUE=DATE:20230619
DTEND;VALUE=DATE:20230622
DTSTAMP:20260420T125916
CREATED:20230322T124322Z
LAST-MODIFIED:20230608T191819Z
UID:180359-1687132800-1687391999@www.csl.edu
SUMMARY:Prof Insights: Faculty-Led Workshop – Professor Thompson in York\, NE
DESCRIPTION:NEW! Family Discipleship: Exploring an Effective Partnership of the Congregation and Home\nThis workshop will explore helping ministries become family-centered and church-supported in raising children in the faith. Biblical mandates give this vocation to household leaders. The Small Catechism supports and equips families for this work. Vital today is the incorporation into church and day school ministry effective ways to serve families in raising up disciples of Jesus Christ. \n\n\n\n\nDr. W. Mart Thompson \nAssociate Professor of Practical Theology and the Director of the Specific Ministry Pastor Program at Concordia Seminary\, St. Louis\nBefore joining the Concordia Seminary faculty\, Dr. W. Mart Thompson served 28 years as a campus pastor\, sole pastor and senior pastor. His areas of experience and expertise include pastoral theology\, catechesis\, member assimilation\, small group ministry\, and youth and family ministry. \n\n\n	\n\n\n\n\nSchedule\n\n\nDAY\nTIME\n\n\nMonday\, June 19\n1-4 p.m.\n\n\nTuesday\, June 20\n9-11:30 a.m.\n\n\n\n1-4 p.m.\n\n\nWednesday\, June 21\n9 a.m.-noon\n\n\n\n\n	Registration cost: $140\n	Registration deadline: June 5\, 2023\n	Location contact: Mike Neidow\n	 \n	Register\n        Promo Video\n	More Workshops\n\n\nNote: The schedule is subject to change at the discretion of the workshop presenters. \n\n 
URL:https://www.csl.edu/event/prof-insights-faculty-led-workshop-professor-thompson-in-york-ne/
LOCATION:Emmanuel Lutheran Church (York\, NE)\, 806 N. Beaver Ave.\, York\, NE\, 68467\, United States
CATEGORIES:Continuing Education,Faculty Speaking Engagement
ATTACH;FMTTYPE=image/jpeg:https://www.csl.edu/wp-content/uploads/2023/03/prof-insights-event.jpg
ORGANIZER;CN="Continuing Education":MAILTO:ce@csl.edu
END:VEVENT
END:VCALENDAR