BEGIN:VCALENDAR
VERSION:2.0
PRODID:-//Concordia Seminary - ECPv6.13.1//NONSGML v1.0//EN
CALSCALE:GREGORIAN
METHOD:PUBLISH
X-ORIGINAL-URL:https://www.csl.edu
X-WR-CALDESC:Events for Concordia Seminary
REFRESH-INTERVAL;VALUE=DURATION:PT1H
X-Robots-Tag:noindex
X-PUBLISHED-TTL:PT1H
BEGIN:VTIMEZONE
TZID:America/Chicago
BEGIN:DAYLIGHT
TZOFFSETFROM:-0600
TZOFFSETTO:-0500
TZNAME:CDT
DTSTART:20220313T080000
END:DAYLIGHT
BEGIN:STANDARD
TZOFFSETFROM:-0500
TZOFFSETTO:-0600
TZNAME:CST
DTSTART:20221106T070000
END:STANDARD
BEGIN:DAYLIGHT
TZOFFSETFROM:-0600
TZOFFSETTO:-0500
TZNAME:CDT
DTSTART:20230312T080000
END:DAYLIGHT
BEGIN:STANDARD
TZOFFSETFROM:-0500
TZOFFSETTO:-0600
TZNAME:CST
DTSTART:20231105T070000
END:STANDARD
BEGIN:DAYLIGHT
TZOFFSETFROM:-0600
TZOFFSETTO:-0500
TZNAME:CDT
DTSTART:20240310T080000
END:DAYLIGHT
BEGIN:STANDARD
TZOFFSETFROM:-0500
TZOFFSETTO:-0600
TZNAME:CST
DTSTART:20241103T070000
END:STANDARD
END:VTIMEZONE
BEGIN:VEVENT
DTSTART;TZID=America/Chicago:20240321T170000
DTEND;TZID=America/Chicago:20240321T190000
DTSTAMP:20260419T174830
CREATED:20240206T174848Z
LAST-MODIFIED:20240305T165455Z
UID:10008398-1711040400-1711047600@www.csl.edu
SUMMARY:St. John Passion by Johann Sebastian Bach
DESCRIPTION:On the 300th anniversary of its premiere performance \nBach’s Birthday Celebration\nThe lecture will feature Maurice Boyer\, music director of the American Kantorei. A reception will follow at 6 p.m. in the Hasse Library.  \nHymn Festivals and Services of Sacred Music will follow the season of the church year and feature locally and nationally acclaimed musicians.\n \nConcert\n 
URL:https://www.csl.edu/event/st-john-passion-by-j-s-bach-celebration-lecture-and-reception/
LOCATION:Kristine Kay Hasse Memorial Library\, 801 Seminary Place\, St. Louis\, MO\, 63105\, United States
CATEGORIES:Concordia Seminary Music Series
ATTACH;FMTTYPE=image/jpeg:https://www.csl.edu/wp-content/uploads/2024/02/cscs-passion-event.jpg
ORGANIZER;CN="Dr. Jon Vieker":MAILTO:viekerj@csl.edu
GEO:38.6381561;-90.3122232
X-APPLE-STRUCTURED-LOCATION;VALUE=URI;X-ADDRESS=Kristine Kay Hasse Memorial Library 801 Seminary Place St. Louis MO 63105 United States;X-APPLE-RADIUS=500;X-TITLE=801 Seminary Place:geo:-90.3122232,38.6381561
END:VEVENT
BEGIN:VEVENT
DTSTART;TZID=America/Chicago:20240309T190000
DTEND;TZID=America/Chicago:20240309T200000
DTSTAMP:20260419T174830
CREATED:20240214T202901Z
LAST-MODIFIED:20240229T161514Z
UID:10008401-1710010800-1710014400@www.csl.edu
SUMMARY:Concordia University Chicago Kapelle Concert
DESCRIPTION:The Kapelle of Concordia University Chicago\, River Forest\, Ill.\, will perform a concert at 7 p.m. March 9 in the Chapel of St. Timothy and St. Titus with Dr. Charles P. Brown as conductor. The concert\, which is free and open to the public\, is sponsored by Village Lutheran Church in Ladue\, Mo.\, and Concordia Lutheran Church in Maplewood\, Mo. The Kapelle\, which is the university’s premier choral  performance ensemble\, tours annually throughout the United States as well as internationally every four years.\n \nLearn more\n 
URL:https://www.csl.edu/event/concordia-university-chicago-kapelle-concert/
LOCATION:Chapel of St. Timothy & St. Titus\, 801 Seminary Place\, St. Louis\, MO\, 63105\, United States
CATEGORIES:Concordia Seminary Music Series
ATTACH;FMTTYPE=image/jpeg:https://www.csl.edu/wp-content/uploads/2024/02/kapelle2.jpg
ORGANIZER;CN="Dr. Jon Vieker":MAILTO:viekerj@csl.edu
END:VEVENT
BEGIN:VEVENT
DTSTART;TZID=America/Chicago:20240305T190000
DTEND;TZID=America/Chicago:20240305T203000
DTSTAMP:20260419T174830
CREATED:20240209T220443Z
LAST-MODIFIED:20240228T154639Z
UID:10008400-1709665200-1709670600@www.csl.edu
SUMMARY:Valparaiso University Chorale Concert
DESCRIPTION:The Valparaiso University Chorale will present Soli Deo Gloria — a worshipful concert of anthems\, hymns and a cantata by J.S. Bach — at 7 p.m. March 5 in the Chapel of St. Timothy and St. Titus. Brass\, string orchestra and featured organist John Schwandt will add inspiring instrumental music to the performance. The program will feature music by Lutheran composers\, and the theme unfolds emphasizing the Reformation solas. A special aspect of the concert will be Schwandt’s organ leadership of the assembly in singing hymns such as “Christ is Made the Sure Foundation” and “O Day Full of Grace” as well as recent hymns by Susan Palo Cherwien and Carol McDaniel. The Lutheran High School South Choir will join the Valparaiso University musicians in this event. \nThe Valparaiso University Chorale is recognized internationally as a premiere Lutheran collegiate choral ensemble\, upholding the highest standard of choral art through performance of the greatest literature of all eras. Dedicated to performing works that celebrate the university’s Lutheran heritage\, the chorale has been honored to receive several prestigious invitations. \nThe concert is free and open to the public.\n \nLearn more\n 
URL:https://www.csl.edu/event/valparaiso-university-chorale-concert/
LOCATION:Chapel of St. Timothy & St. Titus\, 801 Seminary Place\, St. Louis\, MO\, 63105\, United States
CATEGORIES:Concordia Seminary Music Series
ATTACH;FMTTYPE=image/jpeg:https://www.csl.edu/wp-content/uploads/2024/02/valpo-concert.jpg
ORGANIZER;CN="Dr. Jon Vieker":MAILTO:viekerj@csl.edu
END:VEVENT
BEGIN:VEVENT
DTSTART;TZID=America/Chicago:20240220T095500
DTEND;TZID=America/Chicago:20240220T101500
DTSTAMP:20260419T174830
CREATED:20230912T183213Z
LAST-MODIFIED:20240131T190954Z
UID:10008306-1708422900-1708424100@www.csl.edu
SUMMARY:After Chapel Concert
DESCRIPTION:Dr. Trevor Magness\, a classical pianist based in Wisconsin\, whose program will include performance of an original work composed for him and his wife\, Amalia\, by acclaimed American composer Carter Pann.  \nAfter Chapel Concerts will feature musicians from on and off campus sharing their musical talents on a variety of instruments at 9:55 a.m. Recitals are held directly following morning chapel\, which begins at 9:35 a.m.\, and are typically held in the chapel balcony.\n \nWatch\n 
URL:https://www.csl.edu/event/after-chapel-concert-2024-02-20/
LOCATION:Chapel of St. Timothy & St. Titus\, 801 Seminary Place\, St. Louis\, MO\, 63105\, United States
ATTACH;FMTTYPE=image/jpeg:https://www.csl.edu/wp-content/uploads/2023/08/cscs-event.jpg
ORGANIZER;CN="Dr. Jon Vieker":MAILTO:viekerj@csl.edu
END:VEVENT
BEGIN:VEVENT
DTSTART;TZID=America/Chicago:20240218T150000
DTEND;TZID=America/Chicago:20240218T160000
DTSTAMP:20260419T174830
CREATED:20230912T181156Z
LAST-MODIFIED:20240214T204502Z
UID:10008304-1708268400-1708272000@www.csl.edu
SUMMARY:“The Ashes Go on Singing” Hymn Festival
DESCRIPTION:A Hymn Festival on the Hymns of Martin Luther\nA hymn festival singing and celebrating the hymns of Martin Luther after five centuries\, narrated by Peter Reske\, senior editor of music/worship at Concordia Publishing House. This event will follow the annual Prevallet Hymn Writing Workshop the previous day.\n \nLivestream Program\n 
URL:https://www.csl.edu/event/transfiguration-day-hymn-festival/
LOCATION:Chapel of St. Timothy & St. Titus\, 801 Seminary Place\, St. Louis\, MO\, 63105\, United States
CATEGORIES:Chapel,Concordia Seminary Music Series
ATTACH;FMTTYPE=image/jpeg:https://www.csl.edu/wp-content/uploads/2023/09/luther-hymn-festival.jpg
ORGANIZER;CN="Dr. Jon Vieker":MAILTO:viekerj@csl.edu
END:VEVENT
BEGIN:VEVENT
DTSTART;TZID=America/Chicago:20240217T083000
DTEND;TZID=America/Chicago:20240217T120000
DTSTAMP:20260419T174830
CREATED:20240118T154714Z
LAST-MODIFIED:20240214T201217Z
UID:10008382-1708158600-1708171200@www.csl.edu
SUMMARY:Prevallet Hymn Writing Workshop
DESCRIPTION:Prevallet Hymn Writing Workshop\nThis Saturday morning workshop is an opportunity for Concordia Seminary students and other hymn writers and translators to gather together and learn from an expert in the field about the mechanics and craft of writing hymn texts. \nThis workshop is offered especially to  Seminary students to equip them to participate in the annual Pamela Ann Prevallet Hymn Competition*. Although the competition is open to current first-year\, second-year and vicarage Master of Divinity students\, and M.A. Deaconess Studies students\, all  Seminary students may participate in this hymn writing workshop to learn or to sharpen their skills in hymn writing. \nThis year’s workshop presenters will be: \n\nPeter Reske is senior editor of music/worship at Concordia Publishing House (CPH)\, where he has served since 2004. Reske holds degrees in English literature from Marquette University and in musicology from The Pennsylvania State University. In addition to his ongoing role overseeing music publications for CPH\, he was the editor of Lutheran Service Book (2006) and its attendant resources\, editor of The Hymns of Martin Luther (2016)\, and editorial adviser for One and All Rejoice (2020). With Dr. Joseph Herl and Dr. Jon Vieker\, he was co-editor of Lutheran Service Book: Companion to the Hymns (2019).\nDr. Jon Vieker is an associate professor of practical theology and dean of chapel at Concordia Seminary\, St. Louis. Vieker was integrally involved in the research\, development\, editing and production of Lutheran Service Book and its core companion volumes\, currently teaches worship and hymnology\, and has adjudicated a number of hymn competitions over the years.\n\nThe cost for this workshop is $15 (free for Concordia Seminary students and spouses)\, and a copy of The Anatomy of Hymnody by Austin C. Lovelace will be provided to each participant at registration. The deadline to register is Feb. 13. \nPresentations will take place in CH-012\, in the lower level of the Chapel of St. Timothy and St. Titus. The presentations also will be made available live by Zoom to all vicars and other off-campus students. Free copies of The Anatomy of Hymnody will be sent to vicars by email request to Dean of Chapel Dr. Jon Vieker. \n \nRegister\n  \nSchedule\n\n\n\nTIME\nDESCRIPTION\n\n\n8:30-8:45 a.m.\nRegistration\, coffee and donuts\, meet-and-greet with presenters\n\n\n8:45-10 a.m.\nPresentation: “Back to Basics: Exploring the Most Important Mechanics of Hymn Writing through The Anatomy of Hymnody by Austin C. Lovelace”\n\n\n10-10:15 a.m.\nBreak\n\n\n10:15-10:45 a.m.\nMorning prayer with the St. Louis Lutheran Chorale and Laudamus (North Transept)\n\n\n10:45-11 a.m.\nBreak\n\n\n11 a.m.-12:15 p.m.\nPresentation: “Back to Basics: Reflections on the Craft of Hymn Writing from Hymns throughout the Ages.”\n\n\n12:15-1 p.m.\nLunch (on your own)\n\n\n1–3 p.m.\nOptional individual coaching. Participants may bring texts they have been working on to share with the presenters and other hymn writers and coaches who will be available.\n\n\n\n \n*The Pamela Anne Prevallet Memorial Fund Hymn Competition was created in June 2000 by Mr. and Mrs. Donald E. Prevallet in remembrance of their daughter\, Pamela Anne. Though Pamela Anne’s limited abilities prevented her from participating in many things other children could enjoy\, it was clear in her short life that music was dear to her\, particularly the sound of hymns practiced at home by her mother. It is thus fitting that she be remembered in this way. It is also a way of supporting Seminary students and encouraging church music and liturgical musical excellence. For many years\, Mr. Prevallet was chairman of the Seminary’s Board of Regents. His widow\, Martha\, has served as a church organist for 40 years and lives in Blytheville\, Ark. \nEligible applicants to the Prevallet Hymn Competition may apply through the Financial Aid Office. This year’s deadline for applying is Aug. 1\, 2024.
URL:https://www.csl.edu/event/prevallet-hymn-writing-workshop-2024/
LOCATION:Chapel of St. Timothy & St. Titus\, 801 Seminary Place\, St. Louis\, MO\, 63105\, United States
CATEGORIES:Music & Arts
ATTACH;FMTTYPE=image/jpeg:https://www.csl.edu/wp-content/uploads/2024/01/prevallet.jpg
ORGANIZER;CN="Dr. Jon Vieker":MAILTO:viekerj@csl.edu
END:VEVENT
BEGIN:VEVENT
DTSTART;TZID=America/Chicago:20240203T120000
DTEND;TZID=America/Chicago:20240203T210000
DTSTAMP:20260419T174830
CREATED:20240108T160701Z
LAST-MODIFIED:20240108T160741Z
UID:10008376-1706961600-1706994000@www.csl.edu
SUMMARY:Concordia Lutheran High School Choir Concert
DESCRIPTION:
URL:https://www.csl.edu/event/concordia-lutheran-high-school-choir-concert-2024/
LOCATION:Chapel of St. Timothy & St. Titus\, 801 Seminary Place\, St. Louis\, MO\, 63105\, United States
CATEGORIES:Campus Events,Music & Arts
ORGANIZER;CN="Dr. Jon Vieker":MAILTO:viekerj@csl.edu
END:VEVENT
BEGIN:VEVENT
DTSTART;TZID=America/Chicago:20231128T190000
DTEND;TZID=America/Chicago:20231128T200000
DTSTAMP:20260419T174830
CREATED:20230912T180241Z
LAST-MODIFIED:20231120T183022Z
UID:10008303-1701198000-1701201600@www.csl.edu
SUMMARY:Stay Awake! A Service of Sacred Music for the End of the Church Year
DESCRIPTION:Stay Awake! A Service of Sacred Music for the End of the Church Year\nA Choral Service of Evening Prayer\, preparing for Advent and Christmas and featuring Laudamus\, the St. Louis Lutheran Chorale and the Psallite choir from Village Lutheran Church in Ladue\, Mo. Local artist\, April Parviz\, will have some of her art on display in The Chapel of St. Timothy & St. Titus narthex and Koburg Hall following the service\, where you also can meet the artist. \nHymn Festivals and Services of Sacred Music will follow the season of the church year and feature locally and nationally acclaimed musicians.\n \nWatch Program\n 
URL:https://www.csl.edu/event/stay-awake-a-service-of-sacred-music/
LOCATION:Chapel of St. Timothy & St. Titus\, 801 Seminary Place\, St. Louis\, MO\, 63105\, United States
CATEGORIES:Chapel,Concordia Seminary Music Series
ATTACH;FMTTYPE=image/jpeg:https://www.csl.edu/wp-content/uploads/2023/09/StayAwake-event.jpg
ORGANIZER;CN="Dr. Jon Vieker":MAILTO:viekerj@csl.edu
END:VEVENT
BEGIN:VEVENT
DTSTART;TZID=America/Chicago:20231114T095500
DTEND;TZID=America/Chicago:20231114T102000
DTSTAMP:20260419T174830
CREATED:20230908T174417Z
LAST-MODIFIED:20231030T153921Z
UID:10008288-1699955700-1699957200@www.csl.edu
SUMMARY:After Chapel Concert
DESCRIPTION:Lutheran High School South Wind Symphony\, Director Matthew Janssen \nAfter Chapel Concerts feature musicians from on and off campus sharing their musical talents on a variety of instruments at 9:55 a.m. Recitals are held directly following morning chapel\, which begins at 9:35 a.m.\, and are typically held in the chapel balcony.\n \nWatch\n 
URL:https://www.csl.edu/event/after-chapel-concert-2023-11-14/
LOCATION:Chapel of St. Timothy & St. Titus\, 801 Seminary Place\, St. Louis\, MO\, 63105\, United States
CATEGORIES:Chapel,Concordia Seminary Music Series
ATTACH;FMTTYPE=image/jpeg:https://www.csl.edu/wp-content/uploads/2023/08/cscs-event.jpg
ORGANIZER;CN="Dr. Jon Vieker":MAILTO:viekerj@csl.edu
END:VEVENT
BEGIN:VEVENT
DTSTART;TZID=America/Chicago:20231029T150000
DTEND;TZID=America/Chicago:20231029T160000
DTSTAMP:20260419T174830
CREATED:20230912T174645Z
LAST-MODIFIED:20231026T162242Z
UID:10008302-1698591600-1698595200@www.csl.edu
SUMMARY:A Service of Sacred Music for Reformation
DESCRIPTION:A Service of Sacred Music for Reformation with the theme “Each Life a High Doxology” will feature two Seminary choirs\, Laudamus and the St. Louis Lutheran Chorale\, as well as the Schola Cantorum from Village Lutheran Church in Ladue. Hymn Festivals and Services of Sacred Music will follow the season of the church year and feature locally and nationally acclaimed musicians. Rev. Todd Wilken\, host of the Lutheran radio program\, “Issues\, Etc.\,” and assistant pastor at Trinity Lutheran Church in Millstadt\, Ill.\, will serve as preacher for the service.\n \nWatch Program\n 
URL:https://www.csl.edu/event/a-service-of-sacred-music-for-reformation/
LOCATION:Chapel of St. Timothy & St. Titus\, 801 Seminary Place\, St. Louis\, MO\, 63105\, United States
CATEGORIES:Chapel,Concordia Seminary Music Series
ATTACH;FMTTYPE=image/jpeg:https://www.csl.edu/wp-content/uploads/2023/09/hymnfest-event.jpg
ORGANIZER;CN="Dr. Jon Vieker":MAILTO:viekerj@csl.edu
END:VEVENT
BEGIN:VEVENT
DTSTART;TZID=America/Chicago:20231010T095500
DTEND;TZID=America/Chicago:20231010T101500
DTSTAMP:20260419T174830
CREATED:20230908T174209Z
LAST-MODIFIED:20230918T110836Z
UID:10008287-1696931700-1696932900@www.csl.edu
SUMMARY:After Chapel Concert
DESCRIPTION:Owen Duncan\, trombone \nOwen Duncan is a fourth-year student at Concordia Seminary and graduate of the music program at Concordia University\, Irvine\, Calif.  \nAfter Chapel Concerts feature musicians from on and off campus sharing their musical talents on a variety of instruments at 9:55 a.m. Recitals are held directly following morning chapel\, which begins at 9:35 a.m.\, and are typically held in the chapel balcony.\n \nWatch\n 
URL:https://www.csl.edu/event/after-chapel-concert-2023-10-10/
LOCATION:Chapel of St. Timothy & St. Titus\, 801 Seminary Place\, St. Louis\, MO\, 63105\, United States
CATEGORIES:Chapel,Concordia Seminary Music Series
ATTACH;FMTTYPE=image/jpeg:https://www.csl.edu/wp-content/uploads/2023/08/cscs-event.jpg
ORGANIZER;CN="Dr. Jon Vieker":MAILTO:viekerj@csl.edu
END:VEVENT
BEGIN:VEVENT
DTSTART;TZID=America/Chicago:20230423T150000
DTEND;TZID=America/Chicago:20230423T163000
DTSTAMP:20260419T174830
CREATED:20221007T162316Z
LAST-MODIFIED:20230405T181515Z
UID:10007026-1682262000-1682267400@www.csl.edu
SUMMARY:Service of Choral Vespers for Eastertide
DESCRIPTION:American Kantorei singing J. S. Bach\, “Halt im Gedaechtnis Jesum Christ” (BWV 67) within a Service of Choral Vespers
URL:https://www.csl.edu/event/premier-concert-american-kantorei/
LOCATION:Chapel of St. Timothy & St. Titus\, 801 Seminary Place\, St. Louis\, MO\, 63105\, United States
CATEGORIES:Concordia Seminary Music Series
ATTACH;FMTTYPE=image/jpeg:https://www.csl.edu/wp-content/uploads/2022/10/cscs-event.jpg
ORGANIZER;CN="Dr. Jon Vieker":MAILTO:viekerj@csl.edu
END:VEVENT
BEGIN:VEVENT
DTSTART;TZID=America/Chicago:20230314T095500
DTEND;TZID=America/Chicago:20230314T101500
DTSTAMP:20260419T174830
CREATED:20230208T152100Z
LAST-MODIFIED:20230301T142854Z
UID:10007809-1678787700-1678788900@www.csl.edu
SUMMARY:After Chapel Concert
DESCRIPTION:Join us for a performance with Rebecca Vieker who will play Partita No. 2 in G Minor (BWV 1004) by Johann Sebastian Bach on unaccompanied viola. \nA performer and teacher in Des Moines\, Iowa\, Vieker has performed around the country with various symphonies and chamber ensembles. She has played with Des Moines Symphony\, Trans-Siberian Orchestra\, Lincoln Symphony and Sioux City Symphony and also has shared the stage with artists Joshua Bell and Ben Folds. She is also currently working on her Doctor of Musical Arts at the University of Iowa.
URL:https://www.csl.edu/event/after-chapel-concert-2023-03-14/
LOCATION:Chapel of St. Timothy & St. Titus\, 801 Seminary Place\, St. Louis\, MO\, 63105\, United States
CATEGORIES:Concordia Seminary Music Series
ATTACH;FMTTYPE=image/jpeg:https://www.csl.edu/wp-content/uploads/2022/09/after-chapel-22-23.jpg
ORGANIZER;CN="Dr. Jon Vieker":MAILTO:viekerj@csl.edu
END:VEVENT
BEGIN:VEVENT
DTSTART;TZID=America/Chicago:20230228T093500
DTEND;TZID=America/Chicago:20230228T101500
DTSTAMP:20260419T174830
CREATED:20230126T152427Z
LAST-MODIFIED:20230301T143119Z
UID:10007782-1677576900-1677579300@www.csl.edu
SUMMARY:After Chapel Concert
DESCRIPTION:Join us for a rare Midwestern appearance from the engaging collegiate orchestra of Concordia University\, Irvine\, Calif. (CUI). The latest in its “Cathedral Concerts” series\, this After Chapel Concert features CUI’s 57-member orchestra\, professional repertoire\, exceptional soloists and a program anchored in the theme of “contented peace.” \nThe orchestra will perform at 9:35 a.m. during morning chapel in the Chapel of St. Timothy and St. Titus. Join us in person or via live stream. We hope you can join us for this exceptional offering of God’s gift of music!\n \nLearn more Poster\n 
URL:https://www.csl.edu/event/after-chapel-concert-2023-02-28/
LOCATION:Chapel of St. Timothy & St. Titus\, 801 Seminary Place\, St. Louis\, MO\, 63105\, United States
CATEGORIES:Concordia Seminary Music Series
ATTACH;FMTTYPE=image/jpeg:https://www.csl.edu/wp-content/uploads/2022/09/after-chapel-22-23.jpg
ORGANIZER;CN="Dr. Jon Vieker":MAILTO:viekerj@csl.edu
END:VEVENT
BEGIN:VEVENT
DTSTART;TZID=America/Chicago:20221129T190000
DTEND;TZID=America/Chicago:20221129T203000
DTSTAMP:20260419T174830
CREATED:20221007T162817Z
LAST-MODIFIED:20221121T213550Z
UID:10007040-1669748400-1669753800@www.csl.edu
SUMMARY:Advent Evening Prayer
DESCRIPTION:Wake\, Awake\, for Night Is Flying: A Service of Evening Prayer for Advent\nThe service of hymns\, readings and prayers will be held at 7 p.m. CT Tuesday\, Nov. 29\, in the Chapel of St. Timothy and St. Titus. The service is free and open to the public. All are invited to join in-person or via live stream. \nProgram\n 
URL:https://www.csl.edu/event/advent-evening-prayer/
LOCATION:Chapel of St. Timothy & St. Titus\, 801 Seminary Place\, St. Louis\, MO\, 63105\, United States
CATEGORIES:Concordia Seminary Music Series
ATTACH;FMTTYPE=image/jpeg:https://www.csl.edu/wp-content/uploads/2022/10/cscs-event.jpg
ORGANIZER;CN="Dr. Jon Vieker":MAILTO:viekerj@csl.edu
END:VEVENT
BEGIN:VEVENT
DTSTART;TZID=America/Chicago:20221104T093500
DTEND;TZID=America/Chicago:20221104T095500
DTSTAMP:20260419T174830
CREATED:20221012T161223Z
LAST-MODIFIED:20221012T161448Z
UID:10006567-1667554500-1667555700@www.csl.edu
SUMMARY:Daily chapel service – fall calls and assignments service
DESCRIPTION:The Seminary community will celebrate the first calls to ministry of five students and one deaconess internship assignment during the daily chapel service Nov. 4. \nThe community gathers for daily worship at 9:35 a.m. Monday through Friday\, when classes are in session\, in the Chapel of St. Timothy and St. Titus. During our daily chapel services\, we rejoice in receiving the gifts that God gives us in His Word and Sacraments. The worship schedule generally follows the orders of service from the Lutheran Service Book (LSB). Holy Communion is distributed each Wednesday and is sponsored by a Lutheran Church—Missouri Synod congregation. \nThe public is invited to attend chapel services in person or watch via live stream. \nChapel Livestream\n 
URL:https://www.csl.edu/event/daily-chapel-service-2-2/
LOCATION:Chapel of St. Timothy & St. Titus\, 801 Seminary Place\, St. Louis\, MO\, 63105\, United States
CATEGORIES:Chapel
ATTACH;FMTTYPE=image/jpeg:https://www.csl.edu/wp-content/uploads/2022/10/fall-calls.jpg
ORGANIZER;CN="Dr. Jon Vieker":MAILTO:viekerj@csl.edu
END:VEVENT
BEGIN:VEVENT
DTSTART;TZID=America/Chicago:20221030T150000
DTEND;TZID=America/Chicago:20221030T163000
DTSTAMP:20260419T174830
CREATED:20221007T161927Z
LAST-MODIFIED:20221024T150638Z
UID:10007000-1667142000-1667147400@www.csl.edu
SUMMARY:Choral Vespers service
DESCRIPTION:Come\, for All is Now Ready!: A Service of Sacred Music\nPlease join us for Choral Vespers featuring Laudamus and the St. Louis Lutheran Chorale in the Chapel of St. Timothy and St. Titus. This is free and open to the public. \nProgram\n 
URL:https://www.csl.edu/event/choral-vespers-service/
LOCATION:Chapel of St. Timothy & St. Titus\, 801 Seminary Place\, St. Louis\, MO\, 63105\, United States
CATEGORIES:Concordia Seminary Music Series
ATTACH;FMTTYPE=image/jpeg:https://www.csl.edu/wp-content/uploads/2022/10/cscs-event.jpg
ORGANIZER;CN="Dr. Jon Vieker":MAILTO:viekerj@csl.edu
END:VEVENT
BEGIN:VEVENT
DTSTART;TZID=America/Chicago:20221025T095500
DTEND;TZID=America/Chicago:20221025T101500
DTSTAMP:20260419T174830
CREATED:20220928T191219Z
LAST-MODIFIED:20221025T143852Z
UID:10005083-1666691700-1666692900@www.csl.edu
SUMMARY:After Chapel Concert
DESCRIPTION:Program\n\n \nAfter Chapel Concerts are mini concerts featuring musicians from on and off campus sharing their musical talents on a variety of instruments. Recitals are held in the Chapel of St. Timothy and St. Titus directly following morning chapel\, from 9:55 a.m. to 10:15 a.m. CT. Concerts are typically held in the chapel balcony.\n 
URL:https://www.csl.edu/event/after-chapel-concert-2022-10-25/
LOCATION:Chapel of St. Timothy & St. Titus\, 801 Seminary Place\, St. Louis\, MO\, 63105\, United States
CATEGORIES:Concordia Seminary Music Series
ATTACH;FMTTYPE=image/jpeg:https://www.csl.edu/wp-content/uploads/2022/09/after-chapel-22-23.jpg
ORGANIZER;CN="Dr. Jon Vieker":MAILTO:viekerj@csl.edu
END:VEVENT
END:VCALENDAR