BEGIN:VCALENDAR
VERSION:2.0
PRODID:-//Concordia Seminary - ECPv6.13.1//NONSGML v1.0//EN
CALSCALE:GREGORIAN
METHOD:PUBLISH
X-ORIGINAL-URL:https://www.csl.edu
X-WR-CALDESC:Events for Concordia Seminary
REFRESH-INTERVAL;VALUE=DURATION:PT1H
X-Robots-Tag:noindex
X-PUBLISHED-TTL:PT1H
BEGIN:VTIMEZONE
TZID:America/Chicago
BEGIN:DAYLIGHT
TZOFFSETFROM:-0600
TZOFFSETTO:-0500
TZNAME:CDT
DTSTART:20230312T080000
END:DAYLIGHT
BEGIN:STANDARD
TZOFFSETFROM:-0500
TZOFFSETTO:-0600
TZNAME:CST
DTSTART:20231105T070000
END:STANDARD
END:VTIMEZONE
BEGIN:VEVENT
DTSTART;TZID=America/Chicago:20230316T180000
DTEND;TZID=America/Chicago:20230316T200000
DTSTAMP:20260419T195218
CREATED:20230206T175013Z
LAST-MODIFIED:20230210T183818Z
UID:10007797-1678989600-1678996800@www.csl.edu
SUMMARY:Intramural Volleyball
DESCRIPTION:
URL:https://www.csl.edu/event/intramural-volleyball-6/
LOCATION:Eldon E. Pederson Fieldhouse Basketball court\, 801 Seminary Place\, St. Louis\, MO\, 63105\, United States
CATEGORIES:Athletics
ATTACH;FMTTYPE=image/jpeg:https://www.csl.edu/wp-content/uploads/2023/02/volleyball.jpg
ORGANIZER;CN="Wagenknecht%2C Nicholas":MAILTO:wagenknechtn@csl.edu
END:VEVENT
BEGIN:VEVENT
DTSTART;TZID=America/Chicago:20230316T160000
DTEND;TZID=America/Chicago:20230316T180000
DTSTAMP:20260419T195218
CREATED:20230208T172008Z
LAST-MODIFIED:20230210T183829Z
UID:10007814-1678982400-1678989600@www.csl.edu
SUMMARY:Intramural Volleyball
DESCRIPTION:
URL:https://www.csl.edu/event/intramural-volleyball-14/
LOCATION:Eldon E. Pederson Fieldhouse Basketball court\, 801 Seminary Place\, St. Louis\, MO\, 63105\, United States
CATEGORIES:Athletics
ATTACH;FMTTYPE=image/jpeg:https://www.csl.edu/wp-content/uploads/2023/02/volleyball.jpg
ORGANIZER;CN="Wagenknecht%2C Nicholas":MAILTO:wagenknechtn@csl.edu
END:VEVENT
BEGIN:VEVENT
DTSTART;TZID=America/Chicago:20230314T160000
DTEND;TZID=America/Chicago:20230314T180000
DTSTAMP:20260419T195218
CREATED:20230206T175012Z
LAST-MODIFIED:20230206T175012Z
UID:10007796-1678809600-1678816800@www.csl.edu
SUMMARY:Intramural Basketball
DESCRIPTION:
URL:https://www.csl.edu/event/intramural-basketball-10/
LOCATION:Eldon E. Pederson Fieldhouse Basketball court\, 801 Seminary Place\, St. Louis\, MO\, 63105\, United States
CATEGORIES:Athletics
ORGANIZER;CN="Wagenknecht%2C Nicholas":MAILTO:wagenknechtn@csl.edu
END:VEVENT
BEGIN:VEVENT
DTSTART;TZID=America/Chicago:20230309T180000
DTEND;TZID=America/Chicago:20230309T200000
DTSTAMP:20260419T195218
CREATED:20230206T175012Z
LAST-MODIFIED:20230210T183305Z
UID:10007795-1678384800-1678392000@www.csl.edu
SUMMARY:Intramural Volleyball
DESCRIPTION:
URL:https://www.csl.edu/event/intramural-volleyball-5/
LOCATION:Eldon E. Pederson Fieldhouse Basketball court\, 801 Seminary Place\, St. Louis\, MO\, 63105\, United States
CATEGORIES:Athletics
ATTACH;FMTTYPE=image/jpeg:https://www.csl.edu/wp-content/uploads/2023/02/volleyball.jpg
ORGANIZER;CN="Wagenknecht%2C Nicholas":MAILTO:wagenknechtn@csl.edu
END:VEVENT
BEGIN:VEVENT
DTSTART;TZID=America/Chicago:20230309T160000
DTEND;TZID=America/Chicago:20230309T180000
DTSTAMP:20260419T195218
CREATED:20230208T172007Z
LAST-MODIFIED:20230210T183239Z
UID:10007813-1678377600-1678384800@www.csl.edu
SUMMARY:Intramural Volleyball
DESCRIPTION:
URL:https://www.csl.edu/event/intramural-volleyball-13/
LOCATION:Eldon E. Pederson Fieldhouse Basketball court\, 801 Seminary Place\, St. Louis\, MO\, 63105\, United States
CATEGORIES:Athletics
ATTACH;FMTTYPE=image/jpeg:https://www.csl.edu/wp-content/uploads/2023/02/volleyball.jpg
ORGANIZER;CN="Wagenknecht%2C Nicholas":MAILTO:wagenknechtn@csl.edu
END:VEVENT
BEGIN:VEVENT
DTSTART;TZID=America/Chicago:20230307T160000
DTEND;TZID=America/Chicago:20230307T180000
DTSTAMP:20260419T195218
CREATED:20230206T175011Z
LAST-MODIFIED:20230210T183147Z
UID:10007794-1678204800-1678212000@www.csl.edu
SUMMARY:Intramural Basketball
DESCRIPTION:
URL:https://www.csl.edu/event/intramural-basketball-9/
LOCATION:Eldon E. Pederson Fieldhouse Basketball court\, 801 Seminary Place\, St. Louis\, MO\, 63105\, United States
CATEGORIES:Athletics
ATTACH;FMTTYPE=image/jpeg:https://www.csl.edu/wp-content/uploads/2022/11/preachers-feat.jpg
ORGANIZER;CN="Wagenknecht%2C Nicholas":MAILTO:wagenknechtn@csl.edu
END:VEVENT
BEGIN:VEVENT
DTSTART;TZID=America/Chicago:20230302T180000
DTEND;TZID=America/Chicago:20230302T200000
DTSTAMP:20260419T195218
CREATED:20230206T175010Z
LAST-MODIFIED:20230210T183048Z
UID:10007793-1677780000-1677787200@www.csl.edu
SUMMARY:Intramural Volleyball
DESCRIPTION:
URL:https://www.csl.edu/event/intramural-volleyball-4/
LOCATION:Eldon E. Pederson Fieldhouse Basketball court\, 801 Seminary Place\, St. Louis\, MO\, 63105\, United States
CATEGORIES:Athletics
ATTACH;FMTTYPE=image/jpeg:https://www.csl.edu/wp-content/uploads/2023/02/volleyball.jpg
ORGANIZER;CN="Wagenknecht%2C Nicholas":MAILTO:wagenknechtn@csl.edu
END:VEVENT
BEGIN:VEVENT
DTSTART;TZID=America/Chicago:20230302T160000
DTEND;TZID=America/Chicago:20230302T180000
DTSTAMP:20260419T195218
CREATED:20230208T172006Z
LAST-MODIFIED:20230210T183031Z
UID:10007812-1677772800-1677780000@www.csl.edu
SUMMARY:Intramural Volleyball
DESCRIPTION:
URL:https://www.csl.edu/event/intramural-volleyball-12/
LOCATION:Eldon E. Pederson Fieldhouse Basketball court\, 801 Seminary Place\, St. Louis\, MO\, 63105\, United States
CATEGORIES:Athletics
ATTACH;FMTTYPE=image/jpeg:https://www.csl.edu/wp-content/uploads/2023/02/volleyball.jpg
ORGANIZER;CN="Wagenknecht%2C Nicholas":MAILTO:wagenknechtn@csl.edu
END:VEVENT
BEGIN:VEVENT
DTSTART;TZID=America/Chicago:20230228T160000
DTEND;TZID=America/Chicago:20230228T180000
DTSTAMP:20260419T195218
CREATED:20230206T175009Z
LAST-MODIFIED:20230210T182950Z
UID:10007792-1677600000-1677607200@www.csl.edu
SUMMARY:Intramural Basketball
DESCRIPTION:
URL:https://www.csl.edu/event/intramural-basketball-8/
LOCATION:Eldon E. Pederson Fieldhouse Basketball court\, 801 Seminary Place\, St. Louis\, MO\, 63105\, United States
CATEGORIES:Athletics
ATTACH;FMTTYPE=image/jpeg:https://www.csl.edu/wp-content/uploads/2022/11/preachers-feat.jpg
ORGANIZER;CN="Wagenknecht%2C Nicholas":MAILTO:wagenknechtn@csl.edu
END:VEVENT
BEGIN:VEVENT
DTSTART;TZID=America/Chicago:20230224T170000
DTEND;TZID=America/Chicago:20230224T180000
DTSTAMP:20260419T195218
CREATED:20230111T164005Z
LAST-MODIFIED:20230220T141703Z
UID:10007763-1677258000-1677261600@www.csl.edu
SUMMARY:Volleyball Tournament Round 2
DESCRIPTION:
URL:https://www.csl.edu/event/volleyball-tournament-round-2/
LOCATION:Eldon E. Pederson Fieldhouse Basketball court\, 801 Seminary Place\, St. Louis\, MO\, 63105\, United States
CATEGORIES:Athletics
ATTACH;FMTTYPE=image/jpeg:https://www.csl.edu/wp-content/uploads/2023/02/volleyball.jpg
ORGANIZER;CN="Wagenknecht%2C Nicholas":MAILTO:wagenknechtn@csl.edu
END:VEVENT
BEGIN:VEVENT
DTSTART;TZID=America/Chicago:20230223T180000
DTEND;TZID=America/Chicago:20230223T200000
DTSTAMP:20260419T195218
CREATED:20230206T175009Z
LAST-MODIFIED:20230206T175009Z
UID:10007791-1677175200-1677182400@www.csl.edu
SUMMARY:Intramural Volleyball
DESCRIPTION:
URL:https://www.csl.edu/event/intramural-volleyball-3/
LOCATION:Eldon E. Pederson Fieldhouse Basketball court\, 801 Seminary Place\, St. Louis\, MO\, 63105\, United States
CATEGORIES:Athletics
ORGANIZER;CN="Wagenknecht%2C Nicholas":MAILTO:wagenknechtn@csl.edu
END:VEVENT
BEGIN:VEVENT
DTSTART;TZID=America/Chicago:20230223T160000
DTEND;TZID=America/Chicago:20230223T180000
DTSTAMP:20260419T195218
CREATED:20230208T172005Z
LAST-MODIFIED:20230210T182837Z
UID:10007811-1677168000-1677175200@www.csl.edu
SUMMARY:Intramural Volleyball
DESCRIPTION:
URL:https://www.csl.edu/event/intramural-volleyball-11/
LOCATION:Eldon E. Pederson Fieldhouse Basketball court\, 801 Seminary Place\, St. Louis\, MO\, 63105\, United States
CATEGORIES:Athletics
ATTACH;FMTTYPE=image/jpeg:https://www.csl.edu/wp-content/uploads/2023/02/volleyball.jpg
ORGANIZER;CN="Wagenknecht%2C Nicholas":MAILTO:wagenknechtn@csl.edu
END:VEVENT
BEGIN:VEVENT
DTSTART;TZID=America/Chicago:20230221T160000
DTEND;TZID=America/Chicago:20230221T180000
DTSTAMP:20260419T195218
CREATED:20230206T175008Z
LAST-MODIFIED:20230210T182656Z
UID:10007790-1676995200-1677002400@www.csl.edu
SUMMARY:Intramural Basketball
DESCRIPTION:
URL:https://www.csl.edu/event/intramural-basketball-7/
LOCATION:Eldon E. Pederson Fieldhouse Basketball court\, 801 Seminary Place\, St. Louis\, MO\, 63105\, United States
CATEGORIES:Athletics
ATTACH;FMTTYPE=image/jpeg:https://www.csl.edu/wp-content/uploads/2022/11/preachers-feat.jpg
ORGANIZER;CN="Wagenknecht%2C Nicholas":MAILTO:wagenknechtn@csl.edu
END:VEVENT
BEGIN:VEVENT
DTSTART;TZID=America/Chicago:20230218T100000
DTEND;TZID=America/Chicago:20230218T140000
DTSTAMP:20260419T195218
CREATED:20230213T204004Z
LAST-MODIFIED:20230213T225341Z
UID:10007820-1676714400-1676728800@www.csl.edu
SUMMARY:Volleyball Tournament
DESCRIPTION:
URL:https://www.csl.edu/event/volleyball-tournament-2/
LOCATION:Eldon E. Pederson Fieldhouse Basketball court\, 801 Seminary Place\, St. Louis\, MO\, 63105\, United States
CATEGORIES:Athletics
ATTACH;FMTTYPE=image/jpeg:https://www.csl.edu/wp-content/uploads/2023/02/volleyball.jpg
ORGANIZER;CN="Wagenknecht%2C Nicholas":MAILTO:wagenknechtn@csl.edu
END:VEVENT
BEGIN:VEVENT
DTSTART;TZID=America/Chicago:20230216T180000
DTEND;TZID=America/Chicago:20230216T200000
DTSTAMP:20260419T195218
CREATED:20230206T175007Z
LAST-MODIFIED:20230210T182741Z
UID:10007789-1676570400-1676577600@www.csl.edu
SUMMARY:Intramural Volleyball
DESCRIPTION:
URL:https://www.csl.edu/event/intramural-volleyball-2/
LOCATION:Eldon E. Pederson Fieldhouse Basketball court\, 801 Seminary Place\, St. Louis\, MO\, 63105\, United States
CATEGORIES:Athletics
ATTACH;FMTTYPE=image/jpeg:https://www.csl.edu/wp-content/uploads/2023/02/volleyball.jpg
ORGANIZER;CN="Wagenknecht%2C Nicholas":MAILTO:wagenknechtn@csl.edu
END:VEVENT
BEGIN:VEVENT
DTSTART;TZID=America/Chicago:20230216T160000
DTEND;TZID=America/Chicago:20230216T180000
DTSTAMP:20260419T195218
CREATED:20230208T172004Z
LAST-MODIFIED:20230208T172004Z
UID:10007810-1676563200-1676570400@www.csl.edu
SUMMARY:Intramural Volleyball
DESCRIPTION:
URL:https://www.csl.edu/event/intramural-volleyball-10/
LOCATION:Eldon E. Pederson Fieldhouse Basketball court\, 801 Seminary Place\, St. Louis\, MO\, 63105\, United States
CATEGORIES:Athletics
ORGANIZER;CN="Wagenknecht%2C Nicholas":MAILTO:wagenknechtn@csl.edu
END:VEVENT
BEGIN:VEVENT
DTSTART;TZID=America/Chicago:20230214T160000
DTEND;TZID=America/Chicago:20230214T180000
DTSTAMP:20260419T195218
CREATED:20230206T175006Z
LAST-MODIFIED:20230206T175006Z
UID:10007788-1676390400-1676397600@www.csl.edu
SUMMARY:Intramural Basketball
DESCRIPTION:
URL:https://www.csl.edu/event/intramural-basketball-6/
LOCATION:Eldon E. Pederson Fieldhouse Basketball court\, 801 Seminary Place\, St. Louis\, MO\, 63105\, United States
CATEGORIES:Athletics
ORGANIZER;CN="Wagenknecht%2C Nicholas":MAILTO:wagenknechtn@csl.edu
END:VEVENT
BEGIN:VEVENT
DTSTART;TZID=America/Chicago:20230209T180000
DTEND;TZID=America/Chicago:20230209T200000
DTSTAMP:20260419T195218
CREATED:20230206T175006Z
LAST-MODIFIED:20230206T175006Z
UID:10007787-1675965600-1675972800@www.csl.edu
SUMMARY:Intramural Volleyball
DESCRIPTION:
URL:https://www.csl.edu/event/intramural-volleyball/
LOCATION:Eldon E. Pederson Fieldhouse Basketball court\, 801 Seminary Place\, St. Louis\, MO\, 63105\, United States
CATEGORIES:Athletics
ORGANIZER;CN="Wagenknecht%2C Nicholas":MAILTO:wagenknechtn@csl.edu
END:VEVENT
BEGIN:VEVENT
DTSTART;TZID=America/Chicago:20230207T160000
DTEND;TZID=America/Chicago:20230207T180000
DTSTAMP:20260419T195218
CREATED:20230206T175005Z
LAST-MODIFIED:20230206T175005Z
UID:10007786-1675785600-1675792800@www.csl.edu
SUMMARY:Intramural Basketball
DESCRIPTION:
URL:https://www.csl.edu/event/intramural-basketball-5/
LOCATION:Eldon E. Pederson Fieldhouse Basketball court\, 801 Seminary Place\, St. Louis\, MO\, 63105\, United States
CATEGORIES:Athletics
ORGANIZER;CN="Wagenknecht%2C Nicholas":MAILTO:wagenknechtn@csl.edu
END:VEVENT
END:VCALENDAR