BEGIN:VCALENDAR
VERSION:2.0
PRODID:-//Concordia Seminary - ECPv6.13.1//NONSGML v1.0//EN
CALSCALE:GREGORIAN
METHOD:PUBLISH
X-ORIGINAL-URL:https://www.csl.edu
X-WR-CALDESC:Events for Concordia Seminary
REFRESH-INTERVAL;VALUE=DURATION:PT1H
X-Robots-Tag:noindex
X-PUBLISHED-TTL:PT1H
BEGIN:VTIMEZONE
TZID:America/Chicago
BEGIN:DAYLIGHT
TZOFFSETFROM:-0600
TZOFFSETTO:-0500
TZNAME:CDT
DTSTART:20220313T080000
END:DAYLIGHT
BEGIN:STANDARD
TZOFFSETFROM:-0500
TZOFFSETTO:-0600
TZNAME:CST
DTSTART:20221106T070000
END:STANDARD
BEGIN:DAYLIGHT
TZOFFSETFROM:-0600
TZOFFSETTO:-0500
TZNAME:CDT
DTSTART:20230312T080000
END:DAYLIGHT
BEGIN:STANDARD
TZOFFSETFROM:-0500
TZOFFSETTO:-0600
TZNAME:CST
DTSTART:20231105T070000
END:STANDARD
END:VTIMEZONE
BEGIN:VEVENT
DTSTART;TZID=America/Chicago:20230223T170000
DTEND;TZID=America/Chicago:20230223T180000
DTSTAMP:20260423T235114
CREATED:20230104T210508Z
LAST-MODIFIED:20230209T170545Z
UID:10007760-1677171600-1677175200@www.csl.edu
SUMMARY:Bach Birthday Celebration Lecture
DESCRIPTION:Join us for “Bach and the Art of Transcription\,” a lecture by internationally acclaimed conductor\, composer and author Leonard Slatkin. A guest conductor throughout the world\, Slatkin is music director laureate of the Detroit Symphony Orchestra (DSO)\, directeur musical honoraire of the Orchestre National de Lyon (ONL)\, conductor laureate of the St. Louis Symphony Orchestra (SLSO) and principal guest conductor of the Orquesta Filarmónica de Gran Canaria (OFGC). \nThe event is at 5 p.m. CT Thursday\, Feb. 23\, in Werner Auditorium on campus. A reception will follow at 6 p.m. CT in the Kristine Kay Hasse Memorial Library\, and includes a viewing of the Bach Bible. This event is free and open to the public.\n \nLearn more about the Bach Bible Poster\n 
URL:https://www.csl.edu/event/bach-birthday-celebration/
LOCATION:Wyneken Hall Werner Spencer Auditorium
CATEGORIES:Library
ATTACH;FMTTYPE=image/jpeg:https://www.csl.edu/wp-content/uploads/2023/01/bach-event2.jpg
ORGANIZER;CN="Robinson%2C Paul":MAILTO:robinsonp@csl.edu
END:VEVENT
BEGIN:VEVENT
DTSTART;TZID=America/Chicago:20220506T170000
DTEND;TZID=America/Chicago:20220506T220000
DTSTAMP:20260423T235114
CREATED:20220905T205020Z
LAST-MODIFIED:20221004T205539Z
UID:10005060-1651856400-1651874400@www.csl.edu
SUMMARY:Green & Gold Follies
DESCRIPTION:
URL:https://www.csl.edu/event/green-gold-follies-2/
LOCATION:Wyneken Hall Werner Spencer Auditorium
CATEGORIES:Student Association
ORGANIZER;CN="Shick%2C Alexandria":MAILTO:shicka@csl.edu
END:VEVENT
BEGIN:VEVENT
DTSTART;TZID=America/Chicago:20220419T183000
DTEND;TZID=America/Chicago:20220419T213000
DTSTAMP:20260423T235114
CREATED:20221004T211516Z
LAST-MODIFIED:20221004T211516Z
UID:10005113-1650393000-1650403800@www.csl.edu
SUMMARY:Pre-Vicarage Internship Workshop #7 - April 19\, 2022
DESCRIPTION:
URL:https://www.csl.edu/event/pre-vicarage-internship-workshop-7-april-19-2022/
LOCATION:Wyneken Hall Werner Spencer Auditorium
CATEGORIES:Meeting
ORGANIZER;CN="Sartorius%2C Karen":MAILTO:sartoriusk@csl.edu
END:VEVENT
BEGIN:VEVENT
DTSTART;TZID=America/Chicago:20220307T190000
DTEND;TZID=America/Chicago:20220307T210000
DTSTAMP:20260423T235114
CREATED:20221004T211515Z
LAST-MODIFIED:20221004T211515Z
UID:10005111-1646679600-1646686800@www.csl.edu
SUMMARY:Pre-Vicarage Internship Workshop #6 - March 7\, 2022
DESCRIPTION:
URL:https://www.csl.edu/event/pre-vicarage-internship-workshop-6-march-7-2022/
LOCATION:Wyneken Hall Werner Spencer Auditorium
CATEGORIES:Meeting
ORGANIZER;CN="Sartorius%2C Karen":MAILTO:sartoriusk@csl.edu
END:VEVENT
END:VCALENDAR